BEGIN:VCALENDAR
VERSION:2.0
PRODID:-//TYPO3/NONSGML News system (news)//EN
BEGIN:VEVENT
SUMMARY:VALORA EFFEKTEN HANDEL AG
DESCRIPTION:Mehr erfahren: https://www.hauptversammlung.de/sonstige/detail/valora-effekten-handel-ag-2.html\n\n
DTSTAMP:20260417T151201CEST
DTSTART:20260520T100000CEST
DTEND:20260520T100000CEST
LOCATION:Ettlingen
END:VEVENT
END:VCALENDAR