BEGIN:VCALENDAR
VERSION:2.0
PRODID:-//TYPO3/NONSGML News system (news)//EN
BEGIN:VEVENT
SUMMARY:STEICO SE
DESCRIPTION:Mehr erfahren: https://www.hauptversammlung.de/sonstige/detail/steico-se-2.html\n\n
DTSTAMP:20260417T151201CEST
DTSTART:20260619T095900CEST
DTEND:20260619T095900CEST
END:VEVENT
END:VCALENDAR