BEGIN:VCALENDAR
VERSION:2.0
PRODID:-//TYPO3/NONSGML News system (news)//EN
BEGIN:VEVENT
SUMMARY:PSI Software AG
DESCRIPTION:Mehr erfahren: https://www.hauptversammlung.de/sonstige/detail/psi-software-ag-3.html\n\n
DTSTAMP:20260417T151201CEST
DTSTART:20260625T095900CEST
DTEND:20260625T095900CEST
END:VEVENT
END:VCALENDAR