BEGIN:VCALENDAR
VERSION:2.0
PRODID:-//TYPO3/NONSGML News system (news)//EN
BEGIN:VEVENT
SUMMARY:Going Public Media AG
DESCRIPTION:Mehr erfahren: https://www.hauptversammlung.de/sonstige/detail/going-public-media-ag-2.html\n\n
DTSTAMP:20260417T151201CEST
DTSTART:20260624T095900CEST
DTEND:20260624T095900CEST
END:VEVENT
END:VCALENDAR