BEGIN:VCALENDAR
VERSION:2.0
PRODID:-//TYPO3/NONSGML News system (news)//EN
BEGIN:VEVENT
SUMMARY:Epigenomics AG
DESCRIPTION:Mehr erfahren: https://www.hauptversammlung.de/sonstige/detail/epigenomics-ag-2.html\n\n
DTSTAMP:20260421T151415CEST
DTSTART:20260527T090000CEST
DTEND:20260527T090000CEST
LOCATION:Heidelberg
END:VEVENT
END:VCALENDAR