BEGIN:VCALENDAR
VERSION:2.0
PRODID:-//TYPO3/NONSGML News system (news)//EN
BEGIN:VEVENT
SUMMARY:Deutsche Wohnen SE
DESCRIPTION:Mehr erfahren: https://www.hauptversammlung.de/sonstige/detail/deutsche-wohnen-se-2.html\n\n
DTSTAMP:20260418T221229CEST
DTSTART:20260519T100000CEST
DTEND:20260519T100000CEST
LOCATION:Bochum
END:VEVENT
END:VCALENDAR