BEGIN:VCALENDAR
VERSION:2.0
PRODID:-//TYPO3/NONSGML News system (news)//EN
BEGIN:VEVENT
SUMMARY:Shelly Group SE
DESCRIPTION:Mehr erfahren: https://www.hauptversammlung.de/sdax/detail/shelly-group-se.html\n\n
DTSTAMP:20260420T151452CEST
DTSTART:20260630T095900CEST
DTEND:20260630T095900CEST
END:VEVENT
END:VCALENDAR