BEGIN:VCALENDAR
VERSION:2.0
PRODID:-//TYPO3/NONSGML News system (news)//EN
BEGIN:VEVENT
SUMMARY:Deutz AG
DESCRIPTION:Mehr erfahren: https://www.hauptversammlung.de/mdax/detail/deutz-ag-3.html\n\n
DTSTAMP:20260420T072916CEST
DTSTART:20260513T100000CEST
DTEND:20260513T100000CEST
LOCATION:Köln
END:VEVENT
END:VCALENDAR